Workbook
Name Stufe: #REF!
Name Tabellenentgeld: #REF!

Sheet Gesamtübersicht
A5: Personalausgaben
A6: Projektbezeichnung: | E6: (Akronym) XXX
A8: Personalausgaben für: | E8: Name, Vorname
A10: Entgeltgruppe TV-L: | E10: E 13
A12: Entgeltstufe Projektbeginn: Stufe 1 - ohne Vorzeiten Stufe 2 - nach 1 Jahr (max. bei N.N. Personal) Stufe 3 - nach 3 Jahren Stufe 4 - nach 6 Jahren Stufe 5 - nach 10 Jahren Stufe 6 - nach 15 Jahren | E12: 2 | G12: in der Entgeltstufe seit: (Datum eintragen) (bei N.N. ist Projektbeginn einzutragen) ==> | K12: tt.mm.jjjj
A14: Beschäftigungsumfang (%): | E14: 0 | G14: AG Anteile: | I14: 0
A16: Jahr | B16: EG | C16: Stufe | E16: Monatl. Gesamtbetrag in EUR | I16: PM im Jahr | K16: Jährlicher Gesamtbetrag in EUR
A18: 2026 | B18: ='2026'!B8 -> E 13 | C18: ='2026'!B10 -> 2 | E18: =IFERROR('2026'!B55/I18,"0,00") -> 0,00 | I18: ='2026'!B51+'2026'!B53 -> 0 | K18: ='2026'!B55 -> 0
A20: 2027 (1) | B20: ='2027 (1)'!B8 -> E 13 | C20: ='2027 (1)'!B10 -> 2 | E20: =IFERROR('2027 (1)'!B55/I20,"0,00") -> 0,00 | I20: ='2027 (1)'!B51+'2027 (1)'!B53 -> 0 | K20: ='2027 (1)'!B55 -> 0
A22: 2027 (2) | B22: ='2027 (2)'!B8 -> E 13 | C22: ='2027 (2)'!B10 -> 2 | E22: =IFERROR('2027 (2)'!B55/I22,"0,00") -> 0,00 | I22: ='2027 (2)'!B51+'2027 (2)'!B53 -> 0 | K22: ='2027 (2)'!B55 -> 0
G23: Summe 2027 | I23: =I20+I22 -> 0 | K23: =K20+K22 -> 0
A25: 2028 | B25: ='2028'!B8 -> E 13 | C25: ='2028'!B10 -> 2 | E25: =IFERROR('2028'!B55/I25,"0,00") -> 0,00 | I25: ='2028'!B51+'2028'!B53 -> 0 | K25: ='2028'!B55 -> 0
A27: 2029 | B27: ='2029'!B8 -> E 13 | C27: ='2029'!B10 -> 3 | E27: =IFERROR('2029'!B55/I27,"0,00") -> 0,00 | I27: ='2029'!B51+'2029'!B53 -> 0 | K27: ='2029'!B55 -> 0
A29: 2030 | B29: ='2030'!B8 -> E 13 | C29: ='2030'!B10 -> 3 | E29: =IFERROR('2030'!B55/I29,"0,00") -> 0,00 | I29: ='2030'!B51+'2030'!B53 -> 0 | K29: ='2030'!B55 -> 0
A31: 2031 | B31: ='2031'!B8 -> E 13 | C31: ='2031'!B10 -> 3 | E31: =IFERROR('2031'!B55/I31,"0,00") -> 0,00 | I31: ='2031'!B51+'2031'!B53 -> 0 | K31: ='2031'!B55 -> 0
I33: PM | K33: Gesamtbetrag Projektlaufzeit in EUR
I34: =I18+I20+I22+I25+I27+I29+I31 -> 0 | K34: =K18+K20+K22+K25+K27+K29+K31 -> 0
A36: Ausfüllhinweis: Bitte alle hellgrauen Felder ausfüllen! Aufgrund der unterjährigen Tariferhöhung in 2027 werden für dieses Jahr zwei Berechnungsblätter ausgefüllt, um jeweils den Zeitraum vor sowie nach der Tariferhöhung exakt abbilden zu können. Des Weiteren kann nun ein unterjähriger Stufenaufstieg abgebildet werden. Bitte tragen Sie beim Ausfüllen des AZA in profi den monatl. Gesamtbetrag ein. Die monatl. Zuschläge sind hier bereits enthalten und werden nicht separat ausgewiesen.
A38: Bemerkung (optional):
A46: PT-LF, Stand 26.03.2026

Sheet 2026
A1: Personalausgaben
A2: für das Jahr
A3: 2026 (01.04.2026 - 31.12.2026) | H3: Jahressonderzahlung monatlich (neu berechnet abhängig vom Monat des Stufenaufstiegs)
A4: Bearbeitungshinweis: bitte alle hellgrauen Felder ausfüllen
H5: Stufenaufstieg Monat <=7 | I5: Stufenaufstieg Monat 8 | J5: Stufenaufstieg Monat 9 | K5: Stufenaufstieg Monat >=10
A6: Personalausgabenrechung für: | B6: =Gesamtübersicht!E8 -> Name, Vorname | H6: =IFERROR(IF(B17<=7,K8,""),"") | I6: =IFERROR(IF(B17=8,((B42+(K8*2))/3),""),"") | J6: =IFERROR(IF(B17=9,((K8+(B42*2))/3),""),"") | K6: =IFERROR(IF(B17>=10,(3*B42)/3,""),"")
A8: Entgeltgruppe TV-L: | B8: E 13 | J8: Monatliche Zuschläge (Jahressonderzahlung) in EUR (nach Stufenaufstieg, gem. Entgelttabelle) | K8: =IF(B15="ja",((VLOOKUP(B8,'Entgelttabelle 2026'!$A$4:$H$23,8,FALSE)*(VLOOKUP(B8,'Entgelttabelle 2026'!$A$4:$H$23,B10+2,FALSE)*B22))*(1+B32)/12),"")
A10: Entgeltstufe: Stufe 1 - ohne Vorzeiten Stufe 2 - nach 1 Jahr (max. bei N.N. Personal) Stufe 3 - nach 3 Jahren Stufe 4 - nach 6 Jahren Stufe 5 - nach 10 Jahren Stufe 6 - nach 15 Jahren | B10: 2
A12: Entgelt in EUR lt. TV-L-Entgelttabelle: | B12: =VLOOKUP(B8,'Entgelttabelle 2026'!$A$4:$G$23,B10+1,FALSE) -> 5106.09
A13: Grundlage: TV-L-Entgeltabelle 2026 (Gültigkeit der Tabelle: 01.04.2026 - 28.02.2027)
A15: unterjähriger Stufenaufstieg (ja/nein): | B15: nein
A17: ab Monat (erster Monat mit Stufenaufstieg): | B17: 4
A19: Entgelt in EUR lt. TV-L-Entgelttabelle: | B19: =IFERROR(IF(B15="ja",VLOOKUP(B8,'Entgelttabelle 2026'!$A$4:$G$23,B10+2,FALSE),""),"")
A20: nach Stufenaufstieg (nur wenn unterjähriger Stufenaufstieg = ja)
A22: Beschäftigungsumfang in Prozent gem. Arbeitsvertrag | B22: 1
B24: (bitte eintragen)
A25: Arbeitgeberbeiträge zur Krankenversicherung in Prozent | B25: 0
A26: Arbeitgeberbeiträge zur Pflegeversicherung in Prozent | B26: 0
A27: Arbeitgeberbeiträger zur Rentenversicherung in Prozent | B27: 0
A28: Arbeitgeberbeiträger zur Arbeitslosenversicherung in Prozent | B28: 0
A29: Arbeitgeberumlage zur VBL in Prozent | B29: 0
A30: sonstige Arbeitgeberbeiträge (z.B. Umlage U1 und U2) in Prozent | B30: 0
A32: Arbeitgeberbeiträge gesamt in Prozent | B32: =B25+B26+B27+B28+B29+B30 -> 0
A34: vermögenswirksame Leistungen des Arbeitgebers in EUR (pro Monat) | B34: 0
A36: Korrektur (Leistungszulage, ohne AG-Anteil) | B36: 0
A38: Monatssatz inkl. Arbeitgeberbeiträge in EUR | B38: =((B12*B32)+B12)*B22+(B36)*(1+B32)+B34 -> 5106.09
A40: Monatssatz inkl. Arbeitgeberbeiträge in EUR | B40: =IFERROR(((B19*B32)+B19)*B22+(B36)*(1+B32)+B34,"")
A41: nach Stufenaufstieg (nur wenn unterjähriger Stufenaufstieg = ja)
A42: Monatliche Zuschläge (Jahressonderzahlung) in EUR | B42: =((VLOOKUP(B8,'Entgelttabelle 2026'!$A$4:$H$23,8,FALSE)*(VLOOKUP(B8,'Entgelttabelle 2026'!$A$4:$H$23,B10+1,FALSE)*B22))*(1+B32)/12) -> 197.73334
A44: Monatliche Zuschläge (Jahressonderzahlung) in EUR | B44: =_xlfn.IFS(B17<=7,H6,B17=8,I6,B17=9,J6,B17>=10,K6)
A45: nach Stufenaufstieg (nur wenn unterjähriger Stufenaufstieg = ja)
A46: Gesamtbetrag monatlich in EUR | B46: =IF(OR(B15="nein",AND(B15="ja",B17>=10)),B38+B42,B38+B44) -> 5303.8233
A48: Gesamtbetrag monatlich in EUR | B48: =IFERROR(B40+B44,"")
A49: nach Stufenaufstieg (nur wenn unterjähriger Stufenaufstieg = ja)
B50: Achtung: max. Anzahl Monate im Vorhaben = 9
A51: Anzahl Monate im Vorhaben | B51: 0
A53: Anzahl Monate im Vorhaben | B53: 0
A54: nach Stufenaufstieg (nur wenn unterjähriger Stufenaufstieg = ja)
A55: Gesamtbetrag jährlich in EUR | B55: =ROUND((B46*B51)+IF(B15="ja",(B48*B53),0),2) -> 0
A58: Achtung: Wenn Auswahl im Feld "unterjähriger Stufenaufstieg (ja/nein)" = "nein" gesetzt wird, ist ggfs. die vorgenommene Eintragung im Feld "Anzahl Monate im Vorhaben (nach Stufenaufstieg)" wieder auf den Wert "0" zu setzen.
A60: Bemerkung (optional):
A68: =Gesamtübersicht!A46 -> PT-LF, Stand 26.03.2026

Sheet 2027 (1)
A1: Personalausgaben
A2: für das Jahr
A3: 2027 (01.01.2027 - 28.02.2027) | H3: Jahressonderzahlung monatlich (neu berechnet abhängig vom Monat des Stufenaufstiegs)
A4: Bearbeitungshinweis: bitte alle hellgrauen Felder ausfüllen
H5: Stufenaufstieg Monat <=7 | I5: Stufenaufstieg Monat 8 | J5: Stufenaufstieg Monat 9 | K5: Stufenaufstieg Monat >=10
A6: Personalausgabenrechung für: | B6: =Gesamtübersicht!E8 -> Name, Vorname | H6: =IFERROR(IF(B17<=7,K8,""),"") | I6: =IFERROR(IF(B17=8,((B42+(K8*2))/3),""),"") | J6: =IFERROR(IF(B17=9,((K8+(B42*2))/3),""),"") | K6: =IFERROR(IF(B17>=10,(3*B42)/3,""),"")
A8: Entgeltgruppe TV-L: | B8: E 13 | J8: Monatliche Zuschläge (Jahressonderzahlung) in EUR (nach Stufenaufstieg, gem. Entgelttabelle) | K8: =IF(B15="ja",((VLOOKUP(B8,'Entgelttabelle 2027'!$A$4:$H$23,8,FALSE)*(VLOOKUP(B8,'Entgelttabelle 2027'!$A$4:$H$23,B10+2,FALSE)*B22))*(1+B32)/12),"")
A10: Entgeltstufe: Stufe 1 - ohne Vorzeiten Stufe 2 - nach 1 Jahr (max. bei N.N. Personal) Stufe 3 - nach 3 Jahren Stufe 4 - nach 6 Jahren Stufe 5 - nach 10 Jahren Stufe 6 - nach 15 Jahren | B10: 2
A12: Entgelt in EUR lt. TV-L-Entgelttabelle: | B12: =VLOOKUP(B8,'Entgelttabelle 2026'!$A$4:$G$23,B10+1,FALSE) -> 5106.09
A13: Grundlage: TV-L-Entgeltabelle 2026 (Gültigkeit der Tabelle: 01.04.2026 - 28.02.2027)
A15: unterjähriger Stufenaufstieg (ja/nein): | B15: nein
A17: ab Monat (erster Monat mit Stufenaufstieg): | B17: 2
A19: Entgelt in EUR lt. TV-L-Entgelttabelle: | B19: =IFERROR(IF(B15="ja",VLOOKUP(B8,'Entgelttabelle 2027'!$A$4:$G$23,B10+2,FALSE),""),"")
A20: nach Stufenaufstieg (nur wenn unterjähriger Stufenaufstieg = ja)
A22: Beschäftigungsumfang in Prozent gem. Arbeitsvertrag | B22: 1
B24: (bitte eintragen)
A25: Arbeitgeberbeiträge zur Krankenversicherung in Prozent | B25: ='2026'!B25 -> 0
A26: Arbeitgeberbeiträge zur Pflegeversicherung in Prozent | B26: ='2026'!B26 -> 0
A27: Arbeitgeberbeiträger zur Rentenversicherung in Prozent | B27: ='2026'!B27 -> 0
A28: Arbeitgeberbeiträger zur Arbeitslosenversicherung in Prozent | B28: ='2026'!B28 -> 0
A29: Arbeitgeberumlage zur VBL in Prozent | B29: ='2026'!B29 -> 0
A30: sonstige Arbeitgeberbeiträge (z.B. Umlage U1 und U2) in Prozent | B30: ='2026'!B30 -> 0
A32: Arbeitgeberbeiträge gesamt in Prozent | B32: =B25+B26+B27+B28+B29+B30 -> 0
A34: vermögenswirksame Leistungen des Arbeitgebers in EUR (pro Monat) | B34: 0
A36: Korrektur (Leistungszulage, ohne AG-Anteil) | B36: 0
A38: Monatssatz inkl. Arbeitgeberbeiträge in EUR | B38: =((B12*B32)+B12)*B22+(B36)*(1+B32)+B34 -> 5106.09
A40: Monatssatz inkl. Arbeitgeberbeiträge in EUR | B40: =IFERROR(((B19*B32)+B19)*B22+(B36)*(1+B32)+B34,"")
A41: nach Stufenaufstieg (nur wenn unterjähriger Stufenaufstieg = ja)
A42: Monatliche Zuschläge (Jahressonderzahlung) in EUR | B42: =((VLOOKUP(B8,'Entgelttabelle 2026'!$A$4:$H$23,8,FALSE)*(VLOOKUP(B8,'Entgelttabelle 2026'!$A$4:$H$23,B10+1,FALSE)*B22))*(1+B32)/12) -> 197.73334
A44: Monatliche Zuschläge (Jahressonderzahlung) in EUR | B44: =_xlfn.IFS(B17<=7,H6,B17=8,I6,B17=9,J6,B17>=10,K6)
A45: nach Stufenaufstieg (nur wenn unterjähriger Stufenaufstieg = ja)
A46: Gesamtbetrag monatlich in EUR | B46: =IF(OR(B15="nein",AND(B15="ja",B17>=10)),B38+B42,B38+B44) -> 5303.8233
A48: Gesamtbetrag monatlich in EUR | B48: =IFERROR(B40+B44,"")
A49: nach Stufenaufstieg (nur wenn unterjähriger Stufenaufstieg = ja)
B50: Achtung: max. Anzahl Monate im Vorhaben = 2
A51: Anzahl Monate im Vorhaben | B51: 0
A53: Anzahl Monate im Vorhaben | B53: 0
A54: nach Stufenaufstieg (nur wenn unterjähriger Stufenaufstieg = ja)
A55: Gesamtbetrag jährlich in EUR | B55: =ROUND((B46*B51)+IF(B15="ja",(B48*B53),0),2) -> 0
A58: Achtung: Wenn Auswahl im Feld "unterjähriger Stufenaufstieg (ja/nein)" = "nein" gesetzt wird, ist ggfs. die vorgenommene Eintragung im Feld "Anzahl Monate im Vorhaben (nach Stufenaufstieg)" wieder auf den Wert "0" zu setzen.
A60: Bemerkung (optional):
A68: =Gesamtübersicht!A46 -> PT-LF, Stand 26.03.2026

Sheet 2027 (2)
A1: Personalausgaben
A2: für das Jahr
A3: 2027 (01.03.2027 - 31.12.2027) | H3: Jahressonderzahlung monatlich (neu berechnet abhängig vom Monat des Stufenaufstiegs)
A4: Bearbeitungshinweis: bitte alle hellgrauen Felder ausfüllen
H5: Stufenaufstieg Monat <=7 | I5: Stufenaufstieg Monat 8 | J5: Stufenaufstieg Monat 9 | K5: Stufenaufstieg Monat >=10
A6: Personalausgabenrechung für: | B6: =Gesamtübersicht!E8 -> Name, Vorname | H6: =IFERROR(IF(B17<=7,K8,""),"") | I6: =IFERROR(IF(B17=8,((B42+(K8*2))/3),""),"") | J6: =IFERROR(IF(B17=9,((K8+(B42*2))/3),""),"") | K6: =IFERROR(IF(B17>=10,(3*B42)/3,""),"")
A8: Entgeltgruppe TV-L: | B8: E 13 | J8: Monatliche Zuschläge (Jahressonderzahlung) in EUR (nach Stufenaufstieg, gem. Entgelttabelle) | K8: =IF(B15="ja",((VLOOKUP(B8,'Entgelttabelle 2027'!$A$4:$H$23,8,FALSE)*(VLOOKUP(B8,'Entgelttabelle 2027'!$A$4:$H$23,B10+2,FALSE)*B22))*(1+B32)/12),"")
A10: Entgeltstufe: Stufe 1 - ohne Vorzeiten Stufe 2 - nach 1 Jahr (max. bei N.N. Personal) Stufe 3 - nach 3 Jahren Stufe 4 - nach 6 Jahren Stufe 5 - nach 10 Jahren Stufe 6 - nach 15 Jahren | B10: 2
A12: Entgelt in EUR lt. TV-L-Entgelttabelle: | B12: =VLOOKUP(B8,'Entgelttabelle 2027'!$A$4:$G$23,B10+1,FALSE) -> 5208.21
A13: Grundlage: TV-L-Entgeltabelle 2027 (Gültigkeit der Tabelle: 01.03.2027 - 31.12.2027)
A15: unterjähriger Stufenaufstieg (ja/nein): | B15: nein
A17: ab Monat (erster Monat mit Stufenaufstieg): | B17: 4
A19: Entgelt in EUR lt. TV-L-Entgelttabelle: | B19: =IFERROR(IF(B15="ja",VLOOKUP(B8,'Entgelttabelle 2027'!$A$4:$G$23,B10+2,FALSE),""),"")
A20: nach Stufenaufstieg (nur wenn unterjähriger Stufenaufstieg = ja)
A22: Beschäftigungsumfang in Prozent gem. Arbeitsvertrag | B22: 1
B24: (bitte eintragen)
A25: Arbeitgeberbeiträge zur Krankenversicherung in Prozent | B25: ='2027 (1)'!B25 -> 0
A26: Arbeitgeberbeiträge zur Pflegeversicherung in Prozent | B26: ='2027 (1)'!B26 -> 0
A27: Arbeitgeberbeiträger zur Rentenversicherung in Prozent | B27: ='2027 (1)'!B27 -> 0
A28: Arbeitgeberbeiträger zur Arbeitslosenversicherung in Prozent | B28: ='2027 (1)'!B28 -> 0
A29: Arbeitgeberumlage zur VBL in Prozent | B29: ='2027 (1)'!B29 -> 0
A30: sonstige Arbeitgeberbeiträge (z.B. Umlage U1 und U2) in Prozent | B30: ='2027 (1)'!B30 -> 0
A32: Arbeitgeberbeiträge gesamt in Prozent | B32: =B25+B26+B27+B28+B29+B30 -> 0
A34: vermögenswirksame Leistungen des Arbeitgebers in EUR (pro Monat) | B34: 0
A36: Korrektur (Leistungszulage, ohne AG-Anteil) | B36: 0
A38: Monatssatz inkl. Arbeitgeberbeiträge in EUR | B38: =((B12*B32)+B12)*B22+(B36)*(1+B32)+B34 -> 5208.21
A40: Monatssatz inkl. Arbeitgeberbeiträge in EUR | B40: =IFERROR(((B19*B32)+B19)*B22+(B36)*(1+B32)+B34,"")
A41: nach Stufenaufstieg (nur wenn unterjähriger Stufenaufstieg = ja)
A42: Monatliche Zuschläge (Jahressonderzahlung) in EUR | B42: =((VLOOKUP(B8,'Entgelttabelle 2027'!$A$4:$H$23,8,FALSE)*(VLOOKUP(B8,'Entgelttabelle 2027'!$A$4:$H$23,B10+1,FALSE)*B22))*(1+B32)/12) -> 201.68793
A44: Monatliche Zuschläge (Jahressonderzahlung) in EUR | B44: =_xlfn.IFS(B17<=7,H6,B17=8,I6,B17=9,J6,B17>=10,K6)
A45: nach Stufenaufstieg (nur wenn unterjähriger Stufenaufstieg = ja)
A46: Gesamtbetrag monatlich in EUR | B46: =IF(OR(B15="nein",AND(B15="ja",B17>=10)),B38+B42,B38+B44) -> 5409.8979
A48: Gesamtbetrag monatlich in EUR | B48: =IFERROR(B40+B44,"")
A49: nach Stufenaufstieg (nur wenn unterjähriger Stufenaufstieg = ja)
B50: Achtung: max. Anzahl Monate im Vorhaben = 10
A51: Anzahl Monate im Vorhaben | B51: 0
A53: Anzahl Monate im Vorhaben | B53: 0
A54: nach Stufenaufstieg (nur wenn unterjähriger Stufenaufstieg = ja)
A55: Gesamtbetrag jährlich in EUR | B55: =ROUND((B46*B51)+IF(B15="ja",(B48*B53),0),2) -> 0
A58: Achtung: Wenn Auswahl im Feld "unterjähriger Stufenaufstieg (ja/nein)" = "nein" gesetzt wird, ist ggfs. die vorgenommene Eintragung im Feld "Anzahl Monate im Vorhaben (nach Stufenaufstieg)" wieder auf den Wert "0" zu setzen.
A60: Bemerkung (optional):
A68: =Gesamtübersicht!A46 -> PT-LF, Stand 26.03.2026

Sheet 2028
A1: Personalausgaben
A2: für das Jahr
A3: 2028 | H3: Jahressonderzahlung monatlich (neu berechnet abhängig vom Monat des Stufenaufstiegs)
A4: Bearbeitungshinweis: bitte alle hellgrauen Felder ausfüllen
H5: Stufenaufstieg Monat <=7 | I5: Stufenaufstieg Monat 8 | J5: Stufenaufstieg Monat 9 | K5: Stufenaufstieg Monat >=10
A6: Personalausgabenrechung für: | B6: =Gesamtübersicht!E8 -> Name, Vorname | H6: =IFERROR(IF(B17<=7,K8,""),"") | I6: =IFERROR(IF(B17=8,((B42+(K8*2))/3),""),"") | J6: =IFERROR(IF(B17=9,((K8+(B42*2))/3),""),"") | K6: =IFERROR(IF(B17>=10,(3*B42)/3,""),"")
A8: Entgeltgruppe TV-L: | B8: E 13 | J8: Monatliche Zuschläge (Jahressonderzahlung) in EUR (nach Stufenaufstieg, gem. Entgelttabelle) | K8: =IF(B15="ja",((VLOOKUP(B8,'Entgelttabelle 2028 ff.'!$A$4:$H$23,8,FALSE)*(VLOOKUP(B8,'Entgelttabelle 2028 ff.'!$A$4:$H$23,B10+2,FALSE)*B22))*(1+B32)/12),"")
A10: Entgeltstufe: Stufe 1 - ohne Vorzeiten Stufe 2 - nach 1 Jahr (max. bei N.N. Personal) Stufe 3 - nach 3 Jahren Stufe 4 - nach 6 Jahren Stufe 5 - nach 10 Jahren Stufe 6 - nach 15 Jahren | B10: 2
A12: Entgelt in EUR lt. TV-L-Entgelttabelle: | B12: =VLOOKUP(B8,'Entgelttabelle 2028 ff.'!$A$4:$G$23,B10+1,FALSE) -> 5260.29
A13: Grundlage: TV-L-Entgeltabelle 2028 ff.
A15: unterjähriger Stufenaufstieg (ja/nein): | B15: nein
A17: ab Monat (erster Monat mit Stufenaufstieg): | B17: 2
A19: Entgelt in EUR lt. TV-L-Entgelttabelle: | B19: =IFERROR(IF(B15="ja",VLOOKUP(B8,'Entgelttabelle 2028 ff.'!$A$4:$G$23,B10+2,FALSE),""),"")
A20: nach Stufenaufstieg (nur wenn unterjähriger Stufenaufstieg = ja)
A22: Beschäftigungsumfang in Prozent gem. Arbeitsvertrag | B22: 1
B24: (bitte eintragen)
A25: Arbeitgeberbeiträge zur Krankenversicherung in Prozent | B25: ='2027 (2)'!B25 -> 0
A26: Arbeitgeberbeiträge zur Pflegeversicherung in Prozent | B26: ='2027 (2)'!B26 -> 0
A27: Arbeitgeberbeiträger zur Rentenversicherung in Prozent | B27: ='2027 (2)'!B27 -> 0
A28: Arbeitgeberbeiträger zur Arbeitslosenversicherung in Prozent | B28: ='2027 (2)'!B28 -> 0
A29: Arbeitgeberumlage zur VBL in Prozent | B29: ='2027 (2)'!B29 -> 0
A30: sonstige Arbeitgeberbeiträge (z.B. Umlage U1 und U2) in Prozent | B30: ='2027 (2)'!B30 -> 0
A32: Arbeitgeberbeiträge gesamt in Prozent | B32: =B25+B26+B27+B28+B29+B30 -> 0
A34: vermögenswirksame Leistungen des Arbeitgebers in EUR (pro Monat) | B34: 0
A36: Korrektur (Leistungszulage, ohne AG-Anteil) | B36: 0
A38: Monatssatz inkl. Arbeitgeberbeiträge in EUR | B38: =((B12*B32)+B12)*B22+(B36)*(1+B32)+B34 -> 5260.29
A40: Monatssatz inkl. Arbeitgeberbeiträge in EUR | B40: =IFERROR(((B19*B32)+B19)*B22+(B36)*(1+B32)+B34,"")
A41: nach Stufenaufstieg (nur wenn unterjähriger Stufenaufstieg = ja)
A42: Monatliche Zuschläge (Jahressonderzahlung) in EUR | B42: =((VLOOKUP(B8,'Entgelttabelle 2028 ff.'!$A$4:$H$23,8,FALSE)*(VLOOKUP(B8,'Entgelttabelle 2028 ff.'!$A$4:$H$23,B10+1,FALSE)*B22))*(1+B32)/12) -> 203.70473
A44: Monatliche Zuschläge (Jahressonderzahlung) in EUR | B44: =_xlfn.IFS(B17<=7,H6,B17=8,I6,B17=9,J6,B17>=10,K6)
A45: nach Stufenaufstieg (nur wenn unterjähriger Stufenaufstieg = ja)
A46: Gesamtbetrag monatlich in EUR | B46: =IF(OR(B15="nein",AND(B15="ja",B17>=10)),B38+B42,B38+B44) -> 5463.9947
A48: Gesamtbetrag monatlich in EUR | B48: =IFERROR(B40+B44,"")
A49: nach Stufenaufstieg (nur wenn unterjähriger Stufenaufstieg = ja)
B50: Achtung: max. Anzahl Monate im Vorhaben = 12
A51: Anzahl Monate im Vorhaben | B51: 0
A53: Anzahl Monate im Vorhaben | B53: 0
A54: nach Stufenaufstieg (nur wenn unterjähriger Stufenaufstieg = ja)
A55: Gesamtbetrag jährlich in EUR | B55: =ROUND((B46*B51)+IF(B15="ja",(B48*B53),0),2) -> 0
A58: Achtung: Wenn Auswahl im Feld "unterjähriger Stufenaufstieg (ja/nein)" = "nein" gesetzt wird, ist ggfs. die vorgenommene Eintragung im Feld "Anzahl Monate im Vorhaben (nach Stufenaufstieg)" wieder auf den Wert "0" zu setzen.
A60: Bemerkung (optional):
A68: =Gesamtübersicht!A46 -> PT-LF, Stand 26.03.2026

Sheet 2029
A1: Personalausgaben
A2: für das Jahr
A3: 2029 | H3: Jahressonderzahlung monatlich (neu berechnet abhängig vom Monat des Stufenaufstiegs)
A4: Bearbeitungshinweis: bitte alle hellgrauen Felder ausfüllen
H5: Stufenaufstieg Monat <=7 | I5: Stufenaufstieg Monat 8 | J5: Stufenaufstieg Monat 9 | K5: Stufenaufstieg Monat >=10
A6: Personalausgabenrechung für: | B6: =Gesamtübersicht!E8 -> Name, Vorname | H6: =IFERROR(IF(B17<=7,K8,""),"") | I6: =IFERROR(IF(B17=8,((B42+(K8*2))/3),""),"") | J6: =IFERROR(IF(B17=9,((K8+(B42*2))/3),""),"") | K6: =IFERROR(IF(B17>=10,(3*B42)/3,""),"")
A8: Entgeltgruppe TV-L: | B8: E 13 | J8: Monatliche Zuschläge (Jahressonderzahlung) in EUR (nach Stufenaufstieg, gem. Entgelttabelle) | K8: =IF(B15="ja",((VLOOKUP(B8,'Entgelttabelle 2028 ff.'!$A$4:$H$23,8,FALSE)*(VLOOKUP(B8,'Entgelttabelle 2028 ff.'!$A$4:$H$23,B10+2,FALSE)*B22))*(1+B32)/12),"")
A10: Entgeltstufe: Stufe 1 - ohne Vorzeiten Stufe 2 - nach 1 Jahr (max. bei N.N. Personal) Stufe 3 - nach 3 Jahren Stufe 4 - nach 6 Jahren Stufe 5 - nach 10 Jahren Stufe 6 - nach 15 Jahren | B10: 3
A12: Entgelt in EUR lt. TV-L-Entgelttabelle: | B12: =VLOOKUP(B8,'Entgelttabelle 2028 ff.'!$A$4:$G$23,B10+1,FALSE) -> 5528.97
A13: Grundlage: TV-L-Entgeltabelle 2028 ff.
A15: unterjähriger Stufenaufstieg (ja/nein): | B15: nein
A17: ab Monat (erster Monat mit Stufenaufstieg): | B17: 2
A19: Entgelt in EUR lt. TV-L-Entgelttabelle: | B19: =IFERROR(IF(B15="ja",VLOOKUP(B8,'Entgelttabelle 2028 ff.'!$A$4:$G$23,B10+2,FALSE),""),"")
A20: nach Stufenaufstieg (nur wenn unterjähriger Stufenaufstieg = ja)
A22: Beschäftigungsumfang in Prozent gem. Arbeitsvertrag | B22: 1
B24: (bitte eintragen)
A25: Arbeitgeberbeiträge zur Krankenversicherung in Prozent | B25: ='2028'!B25 -> 0
A26: Arbeitgeberbeiträge zur Pflegeversicherung in Prozent | B26: ='2028'!B26 -> 0
A27: Arbeitgeberbeiträger zur Rentenversicherung in Prozent | B27: ='2028'!B27 -> 0
A28: Arbeitgeberbeiträger zur Arbeitslosenversicherung in Prozent | B28: ='2028'!B28 -> 0
A29: Arbeitgeberumlage zur VBL in Prozent | B29: ='2028'!B29 -> 0
A30: sonstige Arbeitgeberbeiträge (z.B. Umlage U1 und U2) in Prozent | B30: ='2028'!B30 -> 0
A32: Arbeitgeberbeiträge gesamt in Prozent | B32: =B25+B26+B27+B28+B29+B30 -> 0
A34: vermögenswirksame Leistungen des Arbeitgebers in EUR (pro Monat) | B34: 0
A36: Korrektur (Leistungszulage, ohne AG-Anteil) | B36: 0
A38: Monatssatz inkl. Arbeitgeberbeiträge in EUR | B38: =((B12*B32)+B12)*B22+(B36)*(1+B32)+B34 -> 5528.97
A40: Monatssatz inkl. Arbeitgeberbeiträge in EUR | B40: =IFERROR(((B19*B32)+B19)*B22+(B36)*(1+B32)+B34,"")
A41: nach Stufenaufstieg (nur wenn unterjähriger Stufenaufstieg = ja)
A42: Monatliche Zuschläge (Jahressonderzahlung) in EUR | B42: =((VLOOKUP(B8,'Entgelttabelle 2028 ff.'!$A$4:$H$23,8,FALSE)*(VLOOKUP(B8,'Entgelttabelle 2028 ff.'!$A$4:$H$23,B10+1,FALSE)*B22))*(1+B32)/12) -> 214.10936
A44: Monatliche Zuschläge (Jahressonderzahlung) in EUR | B44: =_xlfn.IFS(B17<=7,H6,B17=8,I6,B17=9,J6,B17>=10,K6)
A45: nach Stufenaufstieg (nur wenn unterjähriger Stufenaufstieg = ja)
A46: Gesamtbetrag monatlich in EUR | B46: =IF(OR(B15="nein",AND(B15="ja",B17>=10)),B38+B42,B38+B44) -> 5743.0794
A48: Gesamtbetrag monatlich in EUR | B48: =IFERROR(B40+B44,"")
A49: nach Stufenaufstieg (nur wenn unterjähriger Stufenaufstieg = ja)
B50: Achtung: max. Anzahl Monate im Vorhaben = 12
A51: Anzahl Monate im Vorhaben | B51: 0
A53: Anzahl Monate im Vorhaben | B53: 0
A54: nach Stufenaufstieg (nur wenn unterjähriger Stufenaufstieg = ja)
A55: Gesamtbetrag jährlich in EUR | B55: =ROUND((B46*B51)+IF(B15="ja",(B48*B53),0),2) -> 0
A58: Achtung: Wenn Auswahl im Feld "unterjähriger Stufenaufstieg (ja/nein)" = "nein" gesetzt wird, ist ggfs. die vorgenommene Eintragung im Feld "Anzahl Monate im Vorhaben (nach Stufenaufstieg)" wieder auf den Wert "0" zu setzen.
A60: Bemerkung (optional):
A68: =Gesamtübersicht!A46 -> PT-LF, Stand 26.03.2026

Sheet 2030
A1: Personalausgaben
A2: für das Jahr
A3: 2030 | H3: Jahressonderzahlung monatlich (neu berechnet abhängig vom Monat des Stufenaufstiegs)
A4: Bearbeitungshinweis: bitte alle hellgrauen Felder ausfüllen
H5: Stufenaufstieg Monat <=7 | I5: Stufenaufstieg Monat 8 | J5: Stufenaufstieg Monat 9 | K5: Stufenaufstieg Monat >=10
A6: Personalausgabenrechung für: | B6: =Gesamtübersicht!E8 -> Name, Vorname | H6: =IFERROR(IF(B17<=7,K8,""),"") | I6: =IFERROR(IF(B17=8,((B42+(K8*2))/3),""),"") | J6: =IFERROR(IF(B17=9,((K8+(B42*2))/3),""),"") | K6: =IFERROR(IF(B17>=10,(3*B42)/3,""),"")
A8: Entgeltgruppe TV-L: | B8: E 13 | J8: Monatliche Zuschläge (Jahressonderzahlung) in EUR (nach Stufenaufstieg, gem. Entgelttabelle) | K8: =IF(B15="ja",((VLOOKUP(B8,'Entgelttabelle 2028 ff.'!$A$4:$H$23,8,FALSE)*(VLOOKUP(B8,'Entgelttabelle 2028 ff.'!$A$4:$H$23,B10+2,FALSE)*B22))*(1+B32)/12),"")
A10: Entgeltstufe: Stufe 1 - ohne Vorzeiten Stufe 2 - nach 1 Jahr (max. bei N.N. Personal) Stufe 3 - nach 3 Jahren Stufe 4 - nach 6 Jahren Stufe 5 - nach 10 Jahren Stufe 6 - nach 15 Jahren | B10: 3
A12: Entgelt in EUR lt. TV-L-Entgelttabelle: | B12: =VLOOKUP(B8,'Entgelttabelle 2028 ff.'!$A$4:$G$23,B10+1,FALSE) -> 5528.97
A13: Grundlage: TV-L-Entgeltabelle 2028 ff.
A15: unterjähriger Stufenaufstieg (ja/nein): | B15: nein
A17: ab Monat (erster Monat mit Stufenaufstieg): | B17: 2
A19: Entgelt in EUR lt. TV-L-Entgelttabelle: | B19: =IFERROR(IF(B15="ja",VLOOKUP(B8,'Entgelttabelle 2028 ff.'!$A$4:$G$23,B10+2,FALSE),""),"")
A20: nach Stufenaufstieg (nur wenn unterjähriger Stufenaufstieg = ja)
A22: Beschäftigungsumfang in Prozent gem. Arbeitsvertrag | B22: 1
B24: (bitte eintragen)
A25: Arbeitgeberbeiträge zur Krankenversicherung in Prozent | B25: ='2029'!B25 -> 0
A26: Arbeitgeberbeiträge zur Pflegeversicherung in Prozent | B26: ='2029'!B26 -> 0
A27: Arbeitgeberbeiträger zur Rentenversicherung in Prozent | B27: ='2029'!B27 -> 0
A28: Arbeitgeberbeiträger zur Arbeitslosenversicherung in Prozent | B28: ='2029'!B28 -> 0
A29: Arbeitgeberumlage zur VBL in Prozent | B29: ='2029'!B29 -> 0
A30: sonstige Arbeitgeberbeiträge (z.B. Umlage U1 und U2) in Prozent | B30: ='2029'!B30 -> 0
A32: Arbeitgeberbeiträge gesamt in Prozent | B32: =B25+B26+B27+B28+B29+B30 -> 0
A34: vermögenswirksame Leistungen des Arbeitgebers in EUR (pro Monat) | B34: 0
A36: Korrektur (Leistungszulage, ohne AG-Anteil) | B36: 0
A38: Monatssatz inkl. Arbeitgeberbeiträge in EUR | B38: =((B12*B32)+B12)*B22+(B36)*(1+B32)+B34 -> 5528.97
A40: Monatssatz inkl. Arbeitgeberbeiträge in EUR | B40: =IFERROR(((B19*B32)+B19)*B22+(B36)*(1+B32)+B34,"")
A41: nach Stufenaufstieg (nur wenn unterjähriger Stufenaufstieg = ja)
A42: Monatliche Zuschläge (Jahressonderzahlung) in EUR | B42: =((VLOOKUP(B8,'Entgelttabelle 2028 ff.'!$A$4:$H$23,8,FALSE)*(VLOOKUP(B8,'Entgelttabelle 2028 ff.'!$A$4:$H$23,B10+1,FALSE)*B22))*(1+B32)/12) -> 214.10936
A44: Monatliche Zuschläge (Jahressonderzahlung) in EUR | B44: =_xlfn.IFS(B17<=7,H6,B17=8,I6,B17=9,J6,B17>=10,K6)
A45: nach Stufenaufstieg (nur wenn unterjähriger Stufenaufstieg = ja)
A46: Gesamtbetrag monatlich in EUR | B46: =IF(OR(B15="nein",AND(B15="ja",B17>=10)),B38+B42,B38+B44) -> 5743.0794
A48: Gesamtbetrag monatlich in EUR | B48: =IFERROR(B40+B44,"")
A49: nach Stufenaufstieg (nur wenn unterjähriger Stufenaufstieg = ja)
B50: Achtung: max. Anzahl Monate im Vorhaben = 12
A51: Anzahl Monate im Vorhaben | B51: 0
A53: Anzahl Monate im Vorhaben | B53: 0
A54: nach Stufenaufstieg (nur wenn unterjähriger Stufenaufstieg = ja)
A55: Gesamtbetrag jährlich in EUR | B55: =ROUND((B46*B51)+IF(B15="ja",(B48*B53),0),2) -> 0
A58: Achtung: Wenn Auswahl im Feld "unterjähriger Stufenaufstieg (ja/nein)" = "nein" gesetzt wird, ist ggfs. die vorgenommene Eintragung im Feld "Anzahl Monate im Vorhaben (nach Stufenaufstieg)" wieder auf den Wert "0" zu setzen.
A60: Bemerkung (optional):
A68: =Gesamtübersicht!A46 -> PT-LF, Stand 26.03.2026

Sheet 2031
A1: Personalausgaben
A2: für das Jahr
A3: 2031 | H3: Jahressonderzahlung monatlich (neu berechnet abhängig vom Monat des Stufenaufstiegs)
A4: Bearbeitungshinweis: bitte alle hellgrauen Felder ausfüllen
H5: Stufenaufstieg Monat <=7 | I5: Stufenaufstieg Monat 8 | J5: Stufenaufstieg Monat 9 | K5: Stufenaufstieg Monat >=10
A6: Personalausgabenrechung für: | B6: =Gesamtübersicht!E8 -> Name, Vorname | H6: =IFERROR(IF(B17<=7,K8,""),"") | I6: =IFERROR(IF(B17=8,((B42+(K8*2))/3),""),"") | J6: =IFERROR(IF(B17=9,((K8+(B42*2))/3),""),"") | K6: =IFERROR(IF(B17>=10,(3*B42)/3,""),"")
A8: Entgeltgruppe TV-L: | B8: E 13 | J8: Monatliche Zuschläge (Jahressonderzahlung) in EUR (nach Stufenaufstieg, gem. Entgelttabelle) | K8: =IF(B15="ja",((VLOOKUP(B8,'Entgelttabelle 2028 ff.'!$A$4:$H$23,8,FALSE)*(VLOOKUP(B8,'Entgelttabelle 2028 ff.'!$A$4:$H$23,B10+2,FALSE)*B22))*(1+B32)/12),"")
A10: Entgeltstufe: Stufe 1 - ohne Vorzeiten Stufe 2 - nach 1 Jahr (max. bei N.N. Personal) Stufe 3 - nach 3 Jahren Stufe 4 - nach 6 Jahren Stufe 5 - nach 10 Jahren Stufe 6 - nach 15 Jahren | B10: 3
A12: Entgelt in EUR lt. TV-L-Entgelttabelle: | B12: =VLOOKUP(B8,'Entgelttabelle 2028 ff.'!$A$4:$G$23,B10+1,FALSE) -> 5528.97
A13: Grundlage: TV-L-Entgeltabelle 2028 ff.
A15: unterjähriger Stufenaufstieg (ja/nein): | B15: nein
A17: ab Monat (erster Monat mit Stufenaufstieg): | B17: 2
A19: Entgelt in EUR lt. TV-L-Entgelttabelle: | B19: =IFERROR(IF(B15="ja",VLOOKUP(B8,'Entgelttabelle 2028 ff.'!$A$4:$G$23,B10+2,FALSE),""),"")
A20: nach Stufenaufstieg (nur wenn unterjähriger Stufenaufstieg = ja)
A22: Beschäftigungsumfang in Prozent gem. Arbeitsvertrag | B22: 1
B24: (bitte eintragen)
A25: Arbeitgeberbeiträge zur Krankenversicherung in Prozent | B25: ='2030'!B25 -> 0
A26: Arbeitgeberbeiträge zur Pflegeversicherung in Prozent | B26: ='2030'!B26 -> 0
A27: Arbeitgeberbeiträger zur Rentenversicherung in Prozent | B27: ='2030'!B27 -> 0
A28: Arbeitgeberbeiträger zur Arbeitslosenversicherung in Prozent | B28: ='2030'!B28 -> 0
A29: Arbeitgeberumlage zur VBL in Prozent | B29: ='2030'!B29 -> 0
A30: sonstige Arbeitgeberbeiträge (z.B. Umlage U1 und U2) in Prozent | B30: ='2030'!B30 -> 0
A32: Arbeitgeberbeiträge gesamt in Prozent | B32: =B25+B26+B27+B28+B29+B30 -> 0
A34: vermögenswirksame Leistungen des Arbeitgebers in EUR (pro Monat) | B34: 0
A36: Korrektur (Leistungszulage, ohne AG-Anteil) | B36: 0
A38: Monatssatz inkl. Arbeitgeberbeiträge in EUR | B38: =((B12*B32)+B12)*B22+(B36)*(1+B32)+B34 -> 5528.97
A40: Monatssatz inkl. Arbeitgeberbeiträge in EUR | B40: =IFERROR(((B19*B32)+B19)*B22+(B36)*(1+B32)+B34,"")
A41: nach Stufenaufstieg (nur wenn unterjähriger Stufenaufstieg = ja)
A42: Monatliche Zuschläge (Jahressonderzahlung) in EUR | B42: =((VLOOKUP(B8,'Entgelttabelle 2028 ff.'!$A$4:$H$23,8,FALSE)*(VLOOKUP(B8,'Entgelttabelle 2028 ff.'!$A$4:$H$23,B10+1,FALSE)*B22))*(1+B32)/12) -> 214.10936
A44: Monatliche Zuschläge (Jahressonderzahlung) in EUR | B44: =_xlfn.IFS(B17<=7,H6,B17=8,I6,B17=9,J6,B17>=10,K6)
A45: nach Stufenaufstieg (nur wenn unterjähriger Stufenaufstieg = ja)
A46: Gesamtbetrag monatlich in EUR | B46: =IF(OR(B15="nein",AND(B15="ja",B17>=10)),B38+B42,B38+B44) -> 5743.0794
A48: Gesamtbetrag monatlich in EUR | B48: =IFERROR(B40+B44,"")
A49: nach Stufenaufstieg (nur wenn unterjähriger Stufenaufstieg = ja)
B50: Achtung: max. Anzahl Monate im Vorhaben = 12
A51: Anzahl Monate im Vorhaben | B51: 0
A53: Anzahl Monate im Vorhaben | B53: 0
A54: nach Stufenaufstieg (nur wenn unterjähriger Stufenaufstieg = ja)
A55: Gesamtbetrag jährlich in EUR | B55: =ROUND((B46*B51)+IF(B15="ja",(B48*B53),0),2) -> 0
A58: Achtung: Wenn Auswahl im Feld "unterjähriger Stufenaufstieg (ja/nein)" = "nein" gesetzt wird, ist ggfs. die vorgenommene Eintragung im Feld "Anzahl Monate im Vorhaben (nach Stufenaufstieg)" wieder auf den Wert "0" zu setzen.
A60: Bemerkung (optional):
A68: =Gesamtübersicht!A46 -> PT-LF, Stand 26.03.2026

Sheet Entgelttabelle 2026
A1: Bereich Tarifgebiet Ost/West
A2: Gültigkeit der Tabelle: 01.04.2026 - 28.02.2027
A4: Entgeltgruppe | B4: 1 | C4: 2 | D4: 3 | E4: 4 | F4: 5 | G4: 6 | H4: Jahressonderzahlung
A5: E 15Ü | B5: 6857.14 | C5: 7587.33 | D5: 8280.33 | E5: 8734.83 | F5: 8846.64 | H5: 0.3253
A6: E 15 | B6: 5658.38 | C6: 6067.3 | D6: 6283.38 | E6: 7050.89 | F6: 7632.07 | G6: 7854.52 | H6: 0.3253
A7: E 14 | B7: 5143.59 | C7: 5515.9 | D7: 5821.41 | E7: 6283.38 | F7: 6991.23 | G7: 7194.48 | H7: 0.3253
A8: E 13Ü | C8: 5106.09 | D8: 5366.89 | E8: 6283.38 | F8: 6991.23 | G8: 7194.48 | H8: 0.4647
A9: E 13 | B9: 4759.37 | C9: 5106.09 | D9: 5366.89 | E9: 5873.56 | F9: 6573.97 | G9: 6764.69 | H9: 0.4647
A10: E 12 | B10: 4310.9 | C10: 4599.41 | D10: 5210.41 | E10: 5746.9 | F10: 6439.85 | G10: 6626.54 | H10: 0.4647
A11: E 11 | B11: 4178.35 | C11: 4444.86 | D11: 4748.43 | E11: 5210.41 | F11: 5881.02 | G11: 6050.95 | H11: 0.7435
A12: E 10 | B12: 4038.42 | C12: 4299.95 | D12: 4599.41 | E12: 4904.89 | F12: 5486.13 | G12: 5644.2 | H12: 0.7435
A13: E 9b | B13: 3620.1 | C13: 3870.81 | D13: 4035.07 | E13: 4488.99 | F13: 4875.1 | G13: 5014.87 | H13: 0.7435
A14: E 9a | B14: 3620.1 | C14: 3870.81 | D14: 3925.58 | E14: 4035.07 | F14: 4488.99 | G14: 4615.76 | H14: 0.7435
A15: E 8 | B15: 3419.52 | C15: 3659.02 | D15: 3795.52 | E15: 3925.58 | F15: 4069.31 | G15: 4158.27 | H15: 0.8814
A16: E 7 | B16: 3235.83 | C16: 3469.72 | D16: 3645.69 | E16: 3781.85 | F16: 3891.36 | G16: 3987.16 | H16: 0.8814
A17: E 6 | B17: 3186.57 | C17: 3418.08 | D17: 3547.2 | E17: 3679.2 | F17: 3768.15 | G17: 3863.96 | H17: 0.8814
A18: E 5 | B18: 3073.97 | C18: 3301.87 | D18: 3430.99 | E18: 3553.66 | F18: 3652.34 | G18: 3720.25 | H18: 0.8814
A19: E 4 | B19: 2949.24 | C19: 3179.22 | D19: 3340.61 | E19: 3430.99 | F19: 3521.39 | G19: 3579.47 | H19: 0.8743
A20: E 3 | B20: 2915.57 | C20: 3140.47 | D20: 3205.03 | E20: 3308.32 | F20: 3392.25 | G20: 3463.27 | H20: 0.8743
... A22: E 2 | B22: 2742.84 | C22: 2953.24 | D22: 3017.8 | E22: 3082.36 | F22: 3230.84 | G22: 3385.81 | H22: 0.8743
A23: E 1 | C23: 2534.49 | D23: 2565.06 | E23: 2601.78 | F23: 2638.51 | G23: 2730.3 | H23: 0.8743
A25: Quelle:
A26: TV-L Entgelttabelle 01.04.2026 - 28.02.2027
A28: Einigungspapier_2026_-_v._14.2.2026__02.55_Uhr__final.pdf

Sheet Entgelttabelle 2027
A1: Bereich Tarifgebiet Ost/West
A2: Gültigkeit der Tabelle: 01.03.2027 - 31.12.2027
A4: Entgeltgruppe | B4: 1 | C4: 2 | D4: 3 | E4: 4 | F4: 5 | G4: 6 | H4: Jahressonderzahlung
A5: E 15Ü | B5: 6994.28 | C5: 7739.08 | D5: 8445.94 | E5: 8909.53 | F5: 9023.57 | H5: 0.3253
A6: E 15 | B6: 5771.55 | C6: 6188.65 | D6: 6409.05 | E6: 7191.91 | F6: 7784.71 | G6: 8011.61 | H6: 0.3253
A7: E 14 | B7: 5246.46 | C7: 5626.22 | D7: 5937.84 | E7: 6409.05 | F7: 7131.05 | G7: 7338.37 | H7: 0.3253
A8: E 13Ü | C8: 5208.21 | D8: 5474.23 | E8: 6409.05 | F8: 7131.05 | G8: 7338.37 | H8: 0.4647
A9: E 13 | B9: 4854.56 | C9: 5208.21 | D9: 5474.23 | E9: 5991.03 | F9: 6705.45 | G9: 6899.98 | H9: 0.4647
A10: E 12 | B10: 4397.12 | C10: 4691.4 | D10: 5314.62 | E10: 5861.84 | F10: 6568.65 | G10: 6759.07 | H10: 0.4647
A11: E 11 | B11: 4261.92 | C11: 4533.76 | D11: 4843.4 | E11: 5314.62 | F11: 5998.64 | G11: 6171.97 | H11: 0.7435
A12: E 10 | B12: 4119.19 | C12: 4385.95 | D12: 4691.4 | E12: 5002.99 | F12: 5595.85 | G12: 5757.08 | H12: 0.7435
A13: E 9b | B13: 3692.5 | C13: 3948.23 | D13: 4115.77 | E13: 4578.77 | F13: 4972.6 | G13: 5115.17 | H13: 0.7435
A14: E 9a | B14: 3692.5 | C14: 3948.23 | D14: 4004.09 | E14: 4115.77 | F14: 4578.77 | G14: 4708.08 | H14: 0.7435
A15: E 8 | B15: 3487.91 | C15: 3732.2 | D15: 3871.43 | E15: 4004.09 | F15: 4150.7 | G15: 4241.44 | H15: 0.8814
A16: E 7 | B16: 3300.55 | C16: 3539.11 | D16: 3718.6 | E16: 3857.49 | F16: 3969.19 | G16: 4066.9 | H16: 0.8814
A17: E 6 | B17: 3250.3 | C17: 3486.44 | D17: 3618.14 | E17: 3752.78 | F17: 3843.51 | G17: 3941.24 | H17: 0.8814
A18: E 5 | B18: 3135.45 | C18: 3367.91 | D18: 3499.61 | E18: 3624.73 | F18: 3725.39 | G18: 3794.66 | H18: 0.8814
A19: E 4 | B19: 3008.22 | C19: 3242.8 | D19: 3407.42 | E19: 3499.61 | F19: 3591.82 | G19: 3651.06 | H19: 0.8743
A20: E 3 | B20: 2973.88 | C20: 3203.28 | D20: 3269.13 | E20: 3374.49 | F20: 3460.1 | G20: 3532.54 | H20: 0.8743
... A22: E 2 | B22: 2797.7 | C22: 3012.3 | D22: 3078.16 | E22: 3144.01 | F22: 3295.46 | G22: 3453.53 | H22: 0.8743
A23: E 1 | C23: 2585.18 | D23: 2616.36 | E23: 2653.82 | F23: 2691.28 | G23: 2784.91 | H23: 0.8743
A25: Quelle:
A26: TV-L Entgelttabelle 01.03.2027 - 31.12.2027
A28: Einigungspapier_2026_-_v._14.2.2026__02.55_Uhr__final.pdf

Sheet Entgelttabelle 2028 ff.
A1: Bereich Tarifgebiet Ost/West
A2: Gültigkeit der Tabelle: 01.01.2028 - 31.12.2028 (ff.)
A4: Entgeltgruppe | B4: 1 | C4: 2 | D4: 3 | E4: 4 | F4: 5 | G4: 6 | H4: Jahressonderzahlung
A5: E 15Ü | B5: 7064.22 | C5: 7816.47 | D5: 8530.4 | E5: 8998.63 | F5: 9113.81 | H5: 0.3253
A6: E 15 | B6: 5829.27 | C6: 6250.54 | D6: 6473.14 | E6: 7263.83 | F6: 7862.56 | G6: 8091.73 | H6: 0.3253
A7: E 14 | B7: 5298.92 | C7: 5682.48 | D7: 5997.22 | E7: 6473.14 | F7: 7202.36 | G7: 7411.75 | H7: 0.3253
A8: E 13Ü | C8: 5260.29 | D8: 5528.97 | E8: 6473.14 | F8: 7202.36 | G8: 7411.75 | H8: 0.4647
A9: E 13 | B9: 4903.11 | C9: 5260.29 | D9: 5528.97 | E9: 6050.94 | F9: 6772.5 | G9: 6968.98 | H9: 0.4647
A10: E 12 | B10: 4441.09 | C10: 4738.31 | D10: 5367.77 | E10: 5920.46 | F10: 6634.34 | G10: 6826.66 | H10: 0.4647
A11: E 11 | B11: 4304.54 | C11: 4579.1 | D11: 4891.83 | E11: 5367.77 | F11: 6058.63 | G11: 6233.69 | H11: 0.7435
A12: E 10 | B12: 4160.38 | C12: 4429.81 | D12: 4738.31 | E12: 5053.02 | F12: 5651.81 | G12: 5814.65 | H12: 0.7435
A13: E 9b | B13: 3729.43 | C13: 3987.71 | D13: 4156.93 | E13: 4624.56 | F13: 5022.33 | G13: 5166.32 | H13: 0.7435
A14: E 9a | B14: 3729.43 | C14: 3987.71 | D14: 4044.13 | E14: 4156.93 | F14: 4624.56 | G14: 4755.16 | H14: 0.7435
A15: E 8 | B15: 3522.79 | C15: 3769.52 | D15: 3910.14 | E15: 4044.13 | F15: 4192.21 | G15: 4283.85 | H15: 0.8814
A16: E 7 | B16: 3333.56 | C16: 3574.5 | D16: 3755.79 | E16: 3896.06 | F16: 4008.88 | G16: 4107.57 | H16: 0.8814
A17: E 6 | B17: 3282.8 | C17: 3521.3 | D17: 3654.32 | E17: 3790.31 | F17: 3881.95 | G17: 3980.65 | H17: 0.8814
A18: E 5 | B18: 3166.8 | C18: 3401.59 | D18: 3534.61 | E18: 3660.98 | F18: 3762.64 | G18: 3832.61 | H18: 0.8814
A19: E 4 | B19: 3038.3 | C19: 3275.23 | D19: 3441.49 | E19: 3534.61 | F19: 3627.74 | G19: 3687.57 | H19: 0.8743
A20: E 3 | B20: 3003.62 | C20: 3235.31 | D20: 3301.82 | E20: 3408.23 | F20: 3494.7 | G20: 3567.87 | H20: 0.8743
... A22: E 2 | B22: 2825.68 | C22: 3042.42 | D22: 3108.94 | E22: 3175.45 | F22: 3328.41 | G22: 3488.07 | H22: 0.8743
A23: E 1 | C23: 2611.03 | D23: 2642.52 | E23: 2680.36 | F23: 2718.19 | G23: 2812.76 | H23: 0.8743
A25: Quelle:
A26: TV-L Entgelttabelle 01.01.2028 - 31.12.2028
A28: Einigungspapier_2026_-_v._14.2.2026__02.55_Uhr__final.pdf

Sheet Hilfstabelle
A1: ja
A2: nein | C2: 2
C3: 3
C4: 4
C5: 5
C6: 6
C7: 7
C8: 8
C9: 9
C10: 10
C11: 11
C12: 12
